BEGIN:VCALENDAR
VERSION:2.0
PRODID:-//Generative Facilitation - ECPv6.15.17.1//NONSGML v1.0//EN
CALSCALE:GREGORIAN
METHOD:PUBLISH
X-WR-CALNAME:Generative Facilitation
X-ORIGINAL-URL:https://generativefacilitation.com
X-WR-CALDESC:Events for Generative Facilitation
REFRESH-INTERVAL;VALUE=DURATION:PT1H
X-Robots-Tag:noindex
X-PUBLISHED-TTL:PT1H
BEGIN:VTIMEZONE
TZID:Europe/Berlin
BEGIN:DAYLIGHT
TZOFFSETFROM:+0100
TZOFFSETTO:+0200
TZNAME:CEST
DTSTART:20180325T010000
END:DAYLIGHT
BEGIN:STANDARD
TZOFFSETFROM:+0200
TZOFFSETTO:+0100
TZNAME:CET
DTSTART:20181028T010000
END:STANDARD
BEGIN:DAYLIGHT
TZOFFSETFROM:+0100
TZOFFSETTO:+0200
TZNAME:CEST
DTSTART:20190331T010000
END:DAYLIGHT
BEGIN:STANDARD
TZOFFSETFROM:+0200
TZOFFSETTO:+0100
TZNAME:CET
DTSTART:20191027T010000
END:STANDARD
BEGIN:DAYLIGHT
TZOFFSETFROM:+0100
TZOFFSETTO:+0200
TZNAME:CEST
DTSTART:20200329T010000
END:DAYLIGHT
BEGIN:STANDARD
TZOFFSETFROM:+0200
TZOFFSETTO:+0100
TZNAME:CET
DTSTART:20201025T010000
END:STANDARD
END:VTIMEZONE
BEGIN:VEVENT
DTSTART;VALUE=DATE:20190121
DTEND;VALUE=DATE:20190124
DTSTAMP:20260425T032114
CREATED:20181101T125216Z
LAST-MODIFIED:20181102T133615Z
UID:1041-1548028800-1548287999@generativefacilitation.com
SUMMARY:Facilitate U Advanced Program with Christine Wank (in German)
DESCRIPTION:
URL:https://generativefacilitation.com/event/facilitate-u-advanced-program-aufbaumodul-in-german/
ATTACH;FMTTYPE=image/jpeg:https://generativefacilitation.com/wp-content/uploads/2018/11/Aufbaumodul_CW_sm.jpg
END:VEVENT
END:VCALENDAR